BEGIN:VCALENDAR
VERSION:2.0
CALSCALE:GREGORIAN
PRODID:-//MyApp//Calendar 1.0//EN
BEGIN:VEVENT
METHOD:PUBLISH
UID:59987@regionalniportaly.cz
DTSTAMP:20260421T235728Z
DTSTART;VALUE=DATE:20251201
DTEND;VALUE=DATE:20251202
SUMMARY:Screamers - Vánoční speciál
DESCRIPTION:NÁHRADNÍ TERMÍN ZA ZRUŠENÉ PŘEDSTAVENÍ 9. 6. 2025.Zakoupené vstupenky jsou v platnosti. Pokud vám náhradní termín nevyhovuje\, může vstupenky vrátit do 27. 6. u pokladny Národního domu. Děkujeme za pochopení Screamers – Vánoční speciál\nNechte se unést kouzlem Vánoc s nejznámější travesti- divadelní skupinou v Česku! Screamers vám přinášejí svátečně laděný večer plný humoru\, okouzlujících kostýmů\, známých melodií a jedinečné atmosféry. Vánoční speciál je plný nadsázky\, zábavy a brilantních proměn\, které vás zaručeně pobaví i dojmou.\nPřijďte se naladit na sváteční vlnu\, zapomenout na starosti a zažít večer plný třpytu\, smíchu a pohody. Screamers vás zvou na vánoční jízdu\, na kterou jen tak nezapomenete!\n✨ Humor\, parodie\, emoce – to vše ve svátečním balení. Těšíme se na vás!
LOCATION:Třebíč
END:VEVENT
END:VCALENDAR