BEGIN:VCALENDAR
VERSION:2.0
CALSCALE:GREGORIAN
PRODID:-//MyApp//Calendar 1.0//EN
BEGIN:VEVENT
METHOD:PUBLISH
UID:60067@regionalniportaly.cz
DTSTAMP:20260421T195455Z
DTSTART;VALUE=DATE:20260217
DTEND;VALUE=DATE:20260218
SUMMARY:Roman Dragoun
DESCRIPTION:Česká rocková legenda\, zpěvák\, skladatel a klávesista působící na hudební scéně od poloviny sedmdesátých let.Z rodného Písku se přestěhoval do Brna\, kde začínal ve skupině Regenerace\, aby se poté stal členem PROGRES 2. S touto kultovní kapelou natočil slavné album „Třetí kniha džunglí“\, na kterém se podílel i autorsky (skladba „Muž\, který se podobá odvrácené straně měsíce“).Hrál\, či stále hraje v rockových skupinách Futurum\, Stromboli a T4\, vydal několik sólových alb\, zpíval v muzikálech a spolupracuje jako studiový hráč s mnoha dalšími hudebníky.
LOCATION:Třebíč
END:VEVENT
END:VCALENDAR