BEGIN:VCALENDAR
VERSION:2.0
CALSCALE:GREGORIAN
PRODID:-//MyApp//Calendar 1.0//EN
BEGIN:VEVENT
METHOD:PUBLISH
UID:60861@regionalniportaly.cz
DTSTAMP:20260421T205553Z
DTSTART;VALUE=DATE:20251206
DTEND;VALUE=DATE:20251207
SUMMARY:Po stopách třebíčských modelů Stanislava Vršky
DESCRIPTION:Po stopách třebíčských modelů z dílny Stanislava Vršky\n \n6. 12. 2025 ve 13:00Délka prohlídky: 100 minut\nProvází Marek Skřivánek\nZačátek prohlídky na Karlově náměstí u sochy Cyrila a Metoděje\n \nZakoupení vstupenek možné online na webu\, přímo na odkazu akce na základě QR kódu  nebo na TIC Zadní synagoga Třebíč.\n \nInformace: TIC Zadní synagoga\, Subakova 1/44\, Třebíč\, tel.: 568 610 023\, email: infosynagoga@mkstrebic.cz
LOCATION:Třebíč
END:VEVENT
END:VCALENDAR