BEGIN:VCALENDAR
VERSION:2.0
CALSCALE:GREGORIAN
PRODID:-//MyApp//Calendar 1.0//EN
BEGIN:VEVENT
METHOD:PUBLISH
UID:60866@regionalniportaly.cz
DTSTAMP:20260421T175136Z
DTSTART;VALUE=DATE:20260104
DTEND;VALUE=DATE:20260105
SUMMARY:Pospíchejme k betlému
DESCRIPTION:Účinkující:Jihlavský smíšený pěvecký sbor MelodieDětský pěvecký sbor GaudiumKomorní orchestr Bohumila Boudy\nKouzelný večer plný hudby\, tradic a andělů – to je jedinečné provedení Rybovy České mše vánoční s živými obrazy. Tak pospíchejte k Betlému a užijte si společně s účinkujícími v rolích pastýřů a andělů sváteční atmosféru stále ještě vánočního času i začátku nového roku díky krásným slavnostním melodiím této tradiční skladby.
LOCATION:Třebíč
END:VEVENT
END:VCALENDAR