BEGIN:VCALENDAR
VERSION:2.0
CALSCALE:GREGORIAN
PRODID:-//MyApp//Calendar 1.0//EN
BEGIN:VEVENT
METHOD:PUBLISH
UID:60868@regionalniportaly.cz
DTSTAMP:20260421T225758Z
DTSTART;VALUE=DATE:20260126
DTEND;VALUE=DATE:20260127
SUMMARY:Caveman - Agentura Point Praha
DESCRIPTION:Agentura Point Praha: CAVEMANHrají: Jakub Slach Režie: Patrik Hartl\nOne man show\, která vtipně pojednává o tom\, co dělá muže mužem a ženu ženou\, o rozdílech mezi námi\, o lásce\, partnerství a vtipně utajených kvalitách obou pohlaví.
LOCATION:Třebíč
END:VEVENT
END:VCALENDAR