BEGIN:VCALENDAR
VERSION:2.0
CALSCALE:GREGORIAN
PRODID:-//MyApp//Calendar 1.0//EN
BEGIN:VEVENT
METHOD:PUBLISH
UID:61461@regionalniportaly.cz
DTSTAMP:20260421T211415Z
DTSTART;VALUE=DATE:20260124
DTEND;VALUE=DATE:20260125
SUMMARY:Tvorba horáckých lidových vzorů
DESCRIPTION:Workshop s paní Radkou Klímovou na Šmeralově statku v sobotu 24. ledna 2025 od 13 hodin.Tvoření bude probíhat na hrnek nebo&nbsp\;tašku.Dobra trvání workshopu 3–4 hodiny.
LOCATION:Třebíč
END:VEVENT
END:VCALENDAR