BEGIN:VCALENDAR
VERSION:2.0
CALSCALE:GREGORIAN
PRODID:-//MyApp//Calendar 1.0//EN
BEGIN:VEVENT
METHOD:PUBLISH
UID:61992@regionalniportaly.cz
DTSTAMP:20260421T153044Z
DTSTART;VALUE=DATE:20260214
DTEND;VALUE=DATE:20260215
SUMMARY:Malování soustružené hračky
DESCRIPTION:Řemeslný workshop na Šmeralově statku se Zdeňkem Bukáčkem\, Nositelem tradice lidových řemesel z Krouny.Délka trvání workshopu - cca 4 hodiny.
LOCATION:Třebíč
END:VEVENT
END:VCALENDAR