BEGIN:VCALENDAR
VERSION:2.0
CALSCALE:GREGORIAN
PRODID:-//MyApp//Calendar 1.0//EN
BEGIN:VEVENT
METHOD:PUBLISH
UID:61994@regionalniportaly.cz
DTSTAMP:20260421T153115Z
DTSTART;VALUE=DATE:20260307
DTEND;VALUE=DATE:20260308
SUMMARY:Výroba menší metle
DESCRIPTION:Řemeslný workshop na Šmeralově statku s Jiřím Ondřejem\, Nositelem tradice lidových řemesel ze Zubří na Valašsku.&nbsp\;Délka vyráběné březové metle cca 60 cm.Délka trvání workshopu - cca 4 hodiny.
LOCATION:Třebíč
END:VEVENT
END:VCALENDAR