BEGIN:VCALENDAR
VERSION:2.0
CALSCALE:GREGORIAN
PRODID:-//MyApp//Calendar 1.0//EN
BEGIN:VEVENT
METHOD:PUBLISH
UID:62158@regionalniportaly.cz
DTSTAMP:20260421T180228Z
DTSTART;VALUE=DATE:20260205
DTEND;VALUE=DATE:20260206
SUMMARY:Maroko - napříč Marockým královstvím - Patrik Dekan
DESCRIPTION:Vydejte se s námi napříč Marockým královstvím\, napříč starobylými městy až k Atlantickému oceánu. Maroko v sobě ukrývá okouzlení dobrodružnými příběhy a pohádkami. Poznáme jeho pamětihodnosti\, pestrou historii\, projdeme se po tradičních tržištích\, malebných přístavech a nakoukneme i pod pokličku marocké kuchyně. Navštívíme Vysoký Atlas\, vyprahlé stepi\, pouštní hrady\, saharské duny a proslulé naleziště fosílií. Maroko má svou prastarou židovskou historii\, berberské kmenové zvyky a francouzský šarm. Je zemí mnoha barev\, exotických vůní a bohaté kultury. Útočí na všechny vaše smysly a je zároveň cenově i vzdálenostně dostupnou exotikou.\nSrdečně Vás zve Mgr. Patrik Dekan
LOCATION:Třebíč
END:VEVENT
END:VCALENDAR