BEGIN:VCALENDAR
VERSION:2.0
CALSCALE:GREGORIAN
PRODID:-//MyApp//Calendar 1.0//EN
BEGIN:VEVENT
METHOD:PUBLISH
UID:62468@regionalniportaly.cz
DTSTAMP:20260421T152953Z
DTSTART;VALUE=DATE:20260212
DTEND;VALUE=DATE:20260213
SUMMARY:Jachtou na Antarktidu
DESCRIPTION:Nevěděli\, do čeho jdou a strávili na cestě na Antarktidu a zpět 14 dní. Jevištěm silných prožitků šesti mužů\, kteří se do té doby nikdy neviděli\, se stala malá\, sotva čtrnáctimetrová jachta Bona Terra. Zažijte dobrodružství na palubě lodi\, která poté o pár měsíců později skončila na dně zrádného a bouřlivého Drakeova průlivu.2. část: čtvrtek 12. března 2026\, 17:00\, vstupné 80/100 Kč.
LOCATION:Třebíč
END:VEVENT
END:VCALENDAR