BEGIN:VCALENDAR
VERSION:2.0
CALSCALE:GREGORIAN
PRODID:-//MyApp//Calendar 1.0//EN
BEGIN:VEVENT
METHOD:PUBLISH
UID:62539@regionalniportaly.cz
DTSTAMP:20260421T153105Z
DTSTART;VALUE=DATE:20260212
DTEND;VALUE=DATE:20260213
SUMMARY:Jachtou na Antarktidu / Mart Eslem
DESCRIPTION:Městská knihovna zve na dobrodružnou cestu na jachtě Bona Terra neklidným Drakeovým průlivem na Antarktidu.\n \nNevěděli\, do čeho jdou a strávili na cestě na Antarktidu a zpět 14 dní. Jevištěm silných prožitků šesti mužů\, kteří se do té doby nikdy neviděli\, se stala malá\, sotva čtrnáctimetrová jachta Bona Terra.\nZažijte dobrodružství na palubě lodi\, která o pár měsíců později skončila na dně zrádného a bouřlivého Drakeova průlivu.\n \nMěstská knihovna v Třebíči\, 17:00\, vstupné 100 Kč na místě\, v předprodeji 80 Kč. 
LOCATION:Třebíč
END:VEVENT
END:VCALENDAR