BEGIN:VCALENDAR
VERSION:2.0
CALSCALE:GREGORIAN
PRODID:-//MyApp//Calendar 1.0//EN
BEGIN:VEVENT
METHOD:PUBLISH
UID:62811@regionalniportaly.cz
DTSTAMP:20260423T125735Z
DTSTART;VALUE=DATE:20260815
DTEND;VALUE=DATE:20260816
SUMMARY:Tomáš Klus & Cílová skupina
DESCRIPTION:Tomáš Klus vyráží na&nbsp\;turné s názvem Tady to máš\, které slibuje návrat k autenticitě\, hravosti a upřímnosti\, jež jsou pro něj typické.Fanoušci se mohou těšit na průřez jeho dosavadní tvorbou i na novinky\, které reflektují současnou dobu s nadhledem a humorem. Klus opět spojí hudbu\, slovo a silné emoce do originálního koncertního zážitku\, který osloví srdce i mysl.Tady to máš – protože někdy stačí jen naslouchat.Předprodej vstupenek v síti smsticket.cz a v turistickém informačním centru Moravské Budějovice.Vstupné na místě 890 Kč (pouze v případě volné kapacity)
LOCATION:Moravské Budějovice
END:VEVENT
END:VCALENDAR