BEGIN:VCALENDAR
VERSION:2.0
CALSCALE:GREGORIAN
PRODID:-//MyApp//Calendar 1.0//EN
BEGIN:VEVENT
METHOD:PUBLISH
UID:62985@regionalniportaly.cz
DTSTAMP:20260421T175038Z
DTSTART;VALUE=DATE:20260209
DTEND;VALUE=DATE:20260210
SUMMARY:Honza Nedvěd a Příbuzní
DESCRIPTION:Skupina Příbuzní má více než 30letou historii\, i když s dlouhou\, téměř 20letou pauzou. Skupinu založil v roce 1993 Jan Nedvěd mladší\, pokračovatel slavného „folkového“ rodu Nedvědů. Kapelu společně s ním tvoří Hanka Nedvědová a bratři Oršulíci.\nHonza Nedvěd ml. a Příbuzní mají za sebou 5 velmi úspěšných alb\, mimo jiné desky Schránka (1997)\, Malůvky (1998) a Podzimní bál (2003)\, tvorba osobní\, melodická a textově hluboká – v duchu odkazu jeho otce\, Honzy Nedvěda a strýce Františka Nedvěda.\nV roce 2023 se skupina opět vrátila na koncertní pódia a užívá si spolu s fanoušky všech věkových kategorií nostalgii nejen s písněmi bratří Nedvědů jako jsou Na kameni kámen\, Růže z papíru\, či legendární Stánky\, ale také i z repertoáru skupin Brontosauři\, Spirituál Kvintet a samozřejmě ze skladeb skupiny Příbuzní.\nNejde však jen o nostalgii – kapela aktivně tvoří a do koncertních setů zařazuje i nové autorské písně\, které i když nejsou jen klasicky folkové\, tak se v nich „Nedvědovská melodika“ nezapře.\nV prosinci 2025 kapela vydala nové CD s názvem Chlapské slovo.
LOCATION:Třebíč
END:VEVENT
END:VCALENDAR