BEGIN:VCALENDAR
VERSION:2.0
CALSCALE:GREGORIAN
PRODID:-//MyApp//Calendar 1.0//EN
BEGIN:VEVENT
METHOD:PUBLISH
UID:62986@regionalniportaly.cz
DTSTAMP:20260421T165739Z
DTSTART;VALUE=DATE:20260210
DTEND;VALUE=DATE:20260211
SUMMARY:Interstellar "Koncert v září stovek svíček"
DESCRIPTION:JULIE ŠTĚPÁNKOVÁ – klavír\n \nJedinečný večer filmové hudby v intimní atmosféře temného sálu a svíček. Můžete se těšit na nejslavnější skladby Hanse Zimmera zaranžované pro sólový klavír\, z nichž hlavní prostor dostane emocionálně strhující hudba z filmu Interstellar. Hudební zážitek bude doplněný dalšími ikonickými motivy Zimmerovy tvorby. Za klavír usedne Julie Štěpánková\, studentka Janáčkovy akademie múzických umění\, držitelka několika ocenění z mezinárodních soutěží (např. 2. cena ze soutěže Concorso pianistico internaziole “città di Arona”). Klavíristka také vystoupila jako sólistka s Moravskou filharmonií Olomouc.Přijďte se zaposlouchat do filmových světů\, kde se ticho a tma propojuje s hvězdami.
LOCATION:Třebíč
END:VEVENT
END:VCALENDAR