BEGIN:VCALENDAR
VERSION:2.0
CALSCALE:GREGORIAN
PRODID:-//MyApp//Calendar 1.0//EN
BEGIN:VEVENT
METHOD:PUBLISH
UID:62990@regionalniportaly.cz
DTSTAMP:20260421T153127Z
DTSTART;VALUE=DATE:20260303
DTEND;VALUE=DATE:20260304
SUMMARY:Zločin lorda Artura Savila
DESCRIPTION:Oscar Wilde\, Jaroslav Someš: Zločin lorda Artura Savila\nHrají: Jan Meduna\, Hana Drozdová\, Otakar Brousek ml.\, Dana SyslováRežie: Lída Engelová\nHořké\, vtipné a sarkastické uvažování světově proslulého klasika Oscara Wildea o lidské společnosti\, zabalené do elegance a jemné rafinovanosti. Co má dělat anglický gentleman\, když mu uznávaný chiromant předpoví\, že se dopustí vraždy...?                                                               
LOCATION:Třebíč
END:VEVENT
END:VCALENDAR