BEGIN:VCALENDAR
VERSION:2.0
CALSCALE:GREGORIAN
PRODID:-//MyApp//Calendar 1.0//EN
BEGIN:VEVENT
METHOD:PUBLISH
UID:62991@regionalniportaly.cz
DTSTAMP:20260421T182332Z
DTSTART;VALUE=DATE:20260305
DTEND;VALUE=DATE:20260306
SUMMARY:Vzhůru ke hvězdám
DESCRIPTION:DIVADLO UNGELT PRAHAMarie Jones: VZHŮRU KE HVĚZDÁM\nHrají: Iva Pazderková\, Petra Nesvačilová. Režie: Pavel Ondruch\nBláznivá komedie o touze po lepších časech. Měl to být obyčejný den v životě obyčejných pečovatelek. Všechno se ale zvrtlo...                                     
LOCATION:Třebíč
END:VEVENT
END:VCALENDAR