BEGIN:VCALENDAR
VERSION:2.0
CALSCALE:GREGORIAN
PRODID:-//MyApp//Calendar 1.0//EN
BEGIN:VEVENT
METHOD:PUBLISH
UID:62992@regionalniportaly.cz
DTSTAMP:20260421T153002Z
DTSTART;VALUE=DATE:20260316
DTEND;VALUE=DATE:20260317
SUMMARY:Divadlo v Řeznické Praha: Eleanor
DESCRIPTION:DIVADLO V ŘEZNICKÉ PRAHAMark St. Germain: ELEANOR\nHrají: Máša Málková\, Radka Fidlerová. Režie: Lukáš Pečenka\nPříběh o Eleanor Rooseveltové\, ve své době nejmocnější ženě Ameriky.            
LOCATION:Třebíč
END:VEVENT
END:VCALENDAR