BEGIN:VCALENDAR
VERSION:2.0
CALSCALE:GREGORIAN
PRODID:-//MyApp//Calendar 1.0//EN
BEGIN:VEVENT
METHOD:PUBLISH
UID:63744@regionalniportaly.cz
DTSTAMP:20260421T165605Z
DTSTART;VALUE=DATE:20260330
DTEND;VALUE=DATE:20260331
SUMMARY:Grónsko - země\, o které se mluví
DESCRIPTION:V souvislosti s aktuálním děním se na Grónsko zaměřila dosud nezvyklá mediální pozornost. Největší ostrov světa může být bez vlastní zásluhy příčinou konfliktu s&nbsp\;nedozírnými následky. Rozloha 2\,2 mil. km2 by stačila na 13. největší stát světa\, ale&nbsp\;jen 15&nbsp\;% není pokryto věčným sněhem a&nbsp\;ledem. Má jen 57&nbsp\;000 obyvatel. Grónští Inuité na ostrov přišli před 4\,5 tisíci lety z&nbsp\;Asie přes kanadské ledovce a asi 7 % obyvatel jsou Dánové. Důsledky globálního oteplování a tání grónského ledovcového příkrovu lákají k těžbě bohatých zásob nerostů\, intenzivnější využívání námořních cest. Bohužel figuruje i na vojenských mapách.&nbsp\;PhDr. Ing. Zdeněk Lyčka2008–2013 velvyslanec v&nbsp\;Dánskuznalec Grónska a grónské kultury
LOCATION:Třebíč
END:VEVENT
END:VCALENDAR