BEGIN:VCALENDAR
VERSION:2.0
CALSCALE:GREGORIAN
PRODID:-//MyApp//Calendar 1.0//EN
BEGIN:VEVENT
METHOD:PUBLISH
UID:64277@regionalniportaly.cz
DTSTAMP:20260421T063929Z
DTSTART;VALUE=DATE:20260425
DTEND;VALUE=DATE:20260426
SUMMARY:Folklórní Jaro
DESCRIPTION:FOLKLORNÍ JARO II. se opět blížíNenechte si ujít festival k 12. výročí založení spolku Kouničan25. dubna 2026\nKrojovaný průvod městem\, vystoupení místního i přespolních souborů a večerní zábava u cimbálu a taneční škola\n V 𝘳𝑎́𝘮𝑐𝘪 𝘢𝑘𝘤𝑒 𝑝𝘳𝑜𝘣𝑒̌𝘩𝑛𝘦:  14:00 • Krojovaný průvod městem Dolní Kounice  15:00 • Představení a taneční vystoupení folklorních spolků a chas v kulturním domě\n\nKouničan z Dolních Kounic\nKetkovice\nRosice\nOmice\nMoravské Knínice\nNS Podskalák\nFS Šotyš\nFS Čaganka\nFS Vodevšafe\n\n18:30 • Taneční zábavu s CM Štatl v kulturním domě doplní taneční škola\n•\nVstupné na celodenní program je 200 KčVstupné pouze na večerní zábavu je 150 KčBudeme rádi\, když se přijdete podívat\, zatančit si\, nebo třeba jen posedět\, popovídat si a dát si u toho něco dobrého  •Těšíme se na vás!Dolnokounická chasa
LOCATION:Dolní Kounice
END:VEVENT
END:VCALENDAR