BEGIN:VCALENDAR
VERSION:2.0
CALSCALE:GREGORIAN
PRODID:-//MyApp//Calendar 1.0//EN
BEGIN:VEVENT
METHOD:PUBLISH
UID:65694@regionalniportaly.cz
DTSTAMP:20260422T215334Z
DTSTART;VALUE=DATE:20260507
DTEND;VALUE=DATE:20260508
SUMMARY:LIDOPOP + Gloster69
DESCRIPTION:Dvě Brněnské legendární kapely na jednom pódiu vZahradě U Sosny OuJé!
LOCATION:Brno
END:VEVENT
END:VCALENDAR