BEGIN:VCALENDAR
VERSION:2.0
CALSCALE:GREGORIAN
PRODID:-//MyApp//Calendar 1.0//EN
BEGIN:VEVENT
METHOD:PUBLISH
UID:65728@regionalniportaly.cz
DTSTAMP:20260421T222214Z
DTSTART;VALUE=DATE:20260523
DTEND;VALUE=DATE:20260524
SUMMARY:Posvátné a profánní – Václav Drbola mezi Slavkovem a Babicemi
DESCRIPTION:Komentovaná prohlídka města k příležitosti blahořečení kněží papežem Lvem XIV.\nZveme vás na mimořádnou komentovanou prohlídku města s názvem Posvátné a profánní – Václav Drbola mezi Slavkovem a Babicemi\, která se uskuteční u příležitosti blahořečení kněží spojených s tragickými událostmi babického případu papežem Lvem XIV.\nProhlídka nabídne pohled na osobnost Václava Drboly v širších historických i regionálních souvislostech. Připomene nejen jeho životní osudy\, kněžské působení a vztah ke kraji mezi Slavkovem a Babicemi\, ale také napětí mezi světem víry\, moci\, každodennosti a politického násilí\, které poznamenalo dobu 50. let 20. století.\nBěhem komentované trasy se účastníci seznámí s vybranými místy a událostmi\, které dokreslují atmosféru tehdejší doby a pomáhají lépe pochopit\, proč se právě příběh Václava Drboly stal jedním ze silných symbolů duchovní statečnosti\, lidské zranitelnosti i střetu posvátného s profánním.\nProhlídka je určena všem zájemcům o historii města\, církevní dějiny i moderní české dějiny.\nPraktické informace: Datum konání: 23. 5. 2026 Čas prohlídky: 10:30–12:00 Místo zahájení: u IC Trasa: prohlídka města (od farního kostela po Špitálku) Délka: cca 1\,5 hodiny\n Předprodej vstupenek probíhá online ZDE nebo v Turistickém informačním centru ve Slavkově u Brna.
LOCATION:Slavkov u Brna
END:VEVENT
END:VCALENDAR