BEGIN:VCALENDAR
VERSION:2.0
CALSCALE:GREGORIAN
PRODID:-//MyApp//Calendar 1.0//EN
BEGIN:VEVENT
METHOD:PUBLISH
UID:65743@regionalniportaly.cz
DTSTAMP:20260423T052552Z
DTSTART;VALUE=DATE:20260604
DTEND;VALUE=DATE:20260605
SUMMARY:Festival vín by justWINE
DESCRIPTION:EVENT PLNÝ VÍNA JE OPĚT TADY!&nbsp\;Stejně jako minulý rok - i letos pro vás chystáme brněnský FESTIVAL VÍN.&nbsp\;&nbsp\;Více než 20 špičkových vinařů z celé Evropy osobně&nbsp\;na jednom místě!&nbsp\;&nbsp\;Čeká na vás&nbsp\;přes 200 vzorků vín od moravských a zahraničních vinařů.&nbsp\;Připravte se na neopakovatelný zážitek. Skvělé víno\, skvělé jídlo\, skvělá společnost!&nbsp\;justWINE FESTIVAL&nbsp\;|&nbsp\;BRNO&nbsp\;|&nbsp\; 4. června&nbsp\;2026&nbsp\;| SEMILASSO\, Palackého třída 126\, Brno - Kr.&nbsp\;Pole | 15.00 - 00.00PROGRAM BUDE NABITÝ!&nbsp\;15:00–19:30:&nbsp\;volná degustace a bezedná sklenička do 19.30&nbsp\;hodin&nbsp\;(degustační vzorky v ceně vstupenky - přes 200 druhů vín!)španělské&nbsp\;speciality našeho baru Don Pintxos&nbsp\;(paella\, tapas\, sýry\, uzeniny\, olivové oleje)více než 20&nbsp\;špičkových&nbsp\;vinařů&nbsp\;z celé Evropy osobně na jednou místěspeciální stánek našich winebarů Apertivo a Jungle s&nbsp\;víny&nbsp\;\,\,BEST OF justWINE"exkluzivní MASTER CLASS&nbsp\;- jedinečná příležitost ponořit se hlouběji do světa vína pod vedením našeho head sommeliera Martina Procházky (brzy odhalíme více).*Účast na masterclass není součástí základní vstupenky a je možné ji dokoupit samostatně (počet míst je omezený - dopřejte si zážitek\, který posune vaše vnímání vína na úplně novou úroveň).AFTER PÁRTY20.00 - 00.00: měníme koncept a celé SEMILASSO se promění v jednu velkou AFTER PÁRTYod 20:00 se o hudební zážitek postará&nbsp\;kapela&nbsp\;The Gardeners&nbsp\;*je součástí vstupenkypřímo na místě otevřeme&nbsp\;všechny&nbsp\;naše wine bary&nbsp\;(Jungle\, Aperitivo a Don Pintxos) s jejich&nbsp\;speciálními večerními signature drinky a specialitami k zakoupení *není součástí vstupenky&nbsp\;&nbsp\;Podrobný program\, jména potvrzených vinařství a další informace k&nbsp\;eventu&nbsp\;budeme postupně zveřejňovat.Aktuality sledujte na našem&nbsp\;Instagramu&nbsp\;nebo v událostech na Facebooku.&nbsp\;VSTUPENKY JSOU V PŘEDPRODEJI.ONLINE PŘEDPRODEJ: 990 Kč(Vstupné obsahuje neomezenou desgustaci&nbsp\;vína\, skleničku&nbsp\;na víno\, katalog se seznamem vinařství\,&nbsp\;propisku a vstup na večerní afterparty s kapelou&nbsp\;The Gardeners)PRODEJ NA MÍSTĚ: 1.190 Kč (možnost platby v hotovosti i kartou)&nbsp\;VSTUPNÉ PRO GASTRO PODNIKYJSTE Z GASTRO PODNIKU A CHCETE POZNAT NÁS A NAŠE VÍNA? (kavárna\, vinárna\, bistro\, hotel\,&nbsp\;atd.)Napište nám na e-mail:&nbsp\;info@justwine.cz\, pokud se na Festival vín chystáte.&nbsp\;Máme pro vás připravené zvýhodněné vstupné a zároveň si s námi domluvíte i osobní schůzku\, ať se poznáme pro případnou budoucí spolupráci.&nbsp\;&nbsp\;EVENT JE&nbsp\;URČENÝ PRO ŠIROKOU VEŘEJNOST I GASTRO PODNIKY.&nbsp\;UŽ TEĎ SE TĚŠÍME! BUDE TO VELKOLEPÉ!&nbsp\;&nbsp\;váš justWINE
LOCATION:Brno
END:VEVENT
END:VCALENDAR