BEGIN:VCALENDAR
VERSION:2.0
CALSCALE:GREGORIAN
PRODID:-//MyApp//Calendar 1.0//EN
BEGIN:VEVENT
METHOD:PUBLISH
UID:65753@regionalniportaly.cz
DTSTAMP:20260423T040510Z
DTSTART;VALUE=DATE:20260528
DTEND;VALUE=DATE:20260529
SUMMARY:Maxim Johann Monter a jeho nájemní domy v centru – procházka
DESCRIPTION:Architekt Maxim (Maxmilian) Johann Monter (1865–1942) pobýval v Brně pouhých šest let&nbsp\;(1904–1910)\, kdy zde působil jako profesor státní německé průmyslové školy. Navzdory této&nbsp\;krátké době však zanechal zřetelnou stopu ve vnitřním centru města v podobě řady domů&nbsp\;postavených podle jeho návrhů. Na příkladu jeho brněnské architektonické tvorby lze sledovat&nbsp\;rychlou proměnu stylových forem – od pozdního historismu a secese směrem k osobitému\,&nbsp\;originálnímu stylu se zřetelným modernistickým výrazem.&nbsp\;Procházka vnitřním centrem města nás zavede k domům vzniklým podle návrhů tohoto&nbsp\;pozoruhodného tvůrce secesního Brna.Provází historička umění Pavla Cenková. Procházku pořádá Dům umění města Brna jako součást programu Brněnského arch. manuálu.
LOCATION:Brno
END:VEVENT
END:VCALENDAR