BEGIN:VCALENDAR
VERSION:2.0
CALSCALE:GREGORIAN
PRODID:-//MyApp//Calendar 1.0//EN
BEGIN:VEVENT
METHOD:PUBLISH
UID:65790@regionalniportaly.cz
DTSTAMP:20260423T025240Z
DTSTART;VALUE=DATE:20260626
DTEND;VALUE=DATE:20260627
SUMMARY:Matamar na hrad 360°  [Open Air]
DESCRIPTION:𝐌𝐀𝐓𝐀𝐌𝐀𝐑 se vrací po několika letech na brněnský hrad Špilberk!&nbsp\;🏰Těšte se na speciálně umístěnou 360° stage s výhledem na celé Brno 🖤Early birds vstupenky k zakoupení v předprodejní síti smsticket.cz&nbsp\;▌MATAMAR na hrad! [Open Air]▌Pá. 26.6.2026▌Hrad Špilberk - Západní kurtina\, Brno▌Start 17:00 / End 22:00▌Official Afterparty EXIT Club BrnoL̶i̶n̶e̶-̶u̶p̶:̶𝐌𝐀𝐓𝐀𝐌𝐀𝐑Support TBA
LOCATION:Brno
END:VEVENT
END:VCALENDAR