BEGIN:VCALENDAR
VERSION:2.0
CALSCALE:GREGORIAN
PRODID:-//MyApp//Calendar 1.0//EN
BEGIN:VEVENT
METHOD:PUBLISH
UID:65793@regionalniportaly.cz
DTSTAMP:20260423T112136Z
DTSTART;VALUE=DATE:20260524
DTEND;VALUE=DATE:20260525
SUMMARY:Free Aerobik
DESCRIPTION:Přijďte si zacvičit a závodit!\nFREE Aerobik pro každého  Máte rádi pohyb\, hudbu a skvělou atmosféru? Pak si v kalendáři červeně zakroužkujte datum 24. května 2026! Srdečně vás zveme na závody jednotlivců v aerobiku pod vedením zkušených cvičitelů.\nAť už jste začátečníci nebo pokročilí\, děti nebo dospělí – tahle akce je pro VŠECHNY!\nJak se přihlásit?\nProstřednictvím formuláře: https://docs.google.com/.../1FAIpQLSfzMEfEGNC.../viewform...\nDůležité informace:Kdy: 24. 5. 2026Formát: Závody jednotlivců podle cvičitele (cvičíte podle předlohy na pódiu).\nKategorie: Pro děti i dospělé.Startovné a vstupné:150 Kč – při přihlášení předem (vyplatí se!)250 Kč – platba na místě100 Kč – diváciZDARMA – děti a studenti jako diváci\nTěšíme se na vás v tělocvičně!\nPojďme společně rozhýbat Moravské Budějovice!   
LOCATION:Moravské Budějovice
END:VEVENT
END:VCALENDAR