BEGIN:VCALENDAR
VERSION:2.0
CALSCALE:GREGORIAN
PRODID:-//MyApp//Calendar 1.0//EN
BEGIN:VEVENT
METHOD:PUBLISH
UID:65794@regionalniportaly.cz
DTSTAMP:20260423T112144Z
DTSTART;VALUE=DATE:20260507
DTEND;VALUE=DATE:20260508
SUMMARY:Dream Team - kino
DESCRIPTION:Pestrý zástup rázovitých postav hledá životní štěstí a lásku v sérii propletených\, často absurdních situací od milostných trojúhelníků až po bizarní sázky s osudem. Jejich osudy se protínají ve světě plném humoru a nečekaných setkání\, kde někomu přinese radost splněný sen a jinému třeba jen dobře vychlazené pivo.
LOCATION:Moravské Budějovice
END:VEVENT
END:VCALENDAR