BEGIN:VCALENDAR
VERSION:2.0
CALSCALE:GREGORIAN
PRODID:-//MyApp//Calendar 1.0//EN
BEGIN:VEVENT
METHOD:PUBLISH
UID:65798@regionalniportaly.cz
DTSTAMP:20260423T100759Z
DTSTART;VALUE=DATE:20260528
DTEND;VALUE=DATE:20260529
SUMMARY:Živé kvety + Terrible 2S
DESCRIPTION:Živé kvety&nbsp\;bola slovenská&nbsp\;rocková&nbsp\;skupina\, ktorá vznikla v&nbsp\;Bratislave&nbsp\;v roku&nbsp\;1994&nbsp\;okolo speváčky a textárky&nbsp\;Lucie Piussi. Predovšetkým jej osobou je skupina spájaná s legendárnym&nbsp\;Divadlom Stoka. Skupinu založili Lucia Piussi\, Peter Bálik a Veronika Wiedermannová.[1]Skupina vydala v rokoch 2000 až 2020 celkom 12&nbsp\;hudobných albumov\, z toho 10 v hudobnom vydavateľstve&nbsp\;Slnko records\, 1 vo vydavateľstve&nbsp\;Pavian records&nbsp\;a 1 v Mediálnom inštitúte. Skupina okrem toho vydala vo vydavateľstve&nbsp\;Slnko records&nbsp\;dve živé nahrávky koncertov\, v roku 2011 živo nahraný album Perute (CD a DVD) spolu s knihou rozhovorov a textami skladieb a v roku 2012 Živé kvety vo Vagóne. Albumu Sloboda (2005) sa predalo 3000 kusov.[2]Skupina vystupovala na koncertoch prevažne na Slovensku a v Česku. Dňa 23. decembra 2011 vystúpila skupina na koncerte Pocta Václava Havla v pražskej Lucerne.[3]&nbsp\;V marci 2009 vystúpili Živé kvety na dvoch koncertoch v New Yorku.[4]&nbsp\;Od roku 2003 do roku 2020 skupina odohrala&nbsp\;536 koncertov&nbsp\;Archivované&nbsp\;2024-01-04 na&nbsp\;Wayback Machine\, z toho 157 v Bratislave\, 72 v Prahe\, 32 v Brne\, 18 v Trenčíne a 14 v Košiciach.Skupina zanikla v roku 2020 po 27. rokoch pre nezhody jej zakladateľov\, ktorí sa rozhodli venovať vlastným projektom.[5]&nbsp\;Lucia Piussi&nbsp\;a&nbsp\;Agnes Lovecká&nbsp\;založili v roku 2020 skupinu&nbsp\;Terrible 2s. Terrible 2s tvoria piati bývalí členovia Živých kvetov (Lucia Piussi\, Agnes Lovecká\, Juraj Mironov\, Michal Lašán a Jakub Kratochvíl). Peter Bálik pôsobi v skupine Štefánikove deti a&nbsp\;Slobodná Európa.
LOCATION:Brno
END:VEVENT
END:VCALENDAR