BEGIN:VCALENDAR
VERSION:2.0
CALSCALE:GREGORIAN
PRODID:-//MyApp//Calendar 1.0//EN
BEGIN:VEVENT
METHOD:PUBLISH
UID:65808@regionalniportaly.cz
DTSTAMP:20260423T084018Z
DTSTART;VALUE=DATE:20260529
DTEND;VALUE=DATE:20260530
SUMMARY:Alfarytmus + Sextet Picnic
DESCRIPTION:Alfarytmus -&nbsp\;Kapela tvarovaná léty\, vlastními melodiemi a českými texty. Pluje mezi žánry a nikam nespěchá.+Sextet Picnic -&nbsp\;Hudební piknik pro vaše uši.
LOCATION:Brno
END:VEVENT
END:VCALENDAR