BEGIN:VCALENDAR
VERSION:2.0
CALSCALE:GREGORIAN
PRODID:-//MyApp//Calendar 1.0//EN
BEGIN:VEVENT
METHOD:PUBLISH
UID:65831@regionalniportaly.cz
DTSTAMP:20260423T155434Z
DTSTART;VALUE=DATE:20260520
DTEND;VALUE=DATE:20260521
SUMMARY:Breezy Rodio Band
DESCRIPTION:Breezy Rodio (USA) – kytara\, zpěv\, Jakub Hlobil (CZ) – baskytara\, Antonín Jína (CZ) – bicí\nBreezy Rodio je hudebník z Chicaga\, Illinois\, USA. Hraje mix starší bluesové školy a modernějšího elektrického soulu a blues. Koncertní program je směsí originálních skladeb a předělávek bluesové klasiky. \nZde je něco více o mně a kapele: Svá první dvě alba jsem nahrál pro prestižní label Delmark Records (v roce 2019 jsem u nich vydal své druhé album). Procestoval jsem USA\, Japonsko\, Brazílii\, Evropu\, Mexiko\, Kanadu a mnoho dalších zemí a pravidelně vystupuji ve všech velkých bluesových a rockových klubech a na akcích jak v Chicagu\, tak po celých Spojených státech. Moje album „Underground Blues“\, nahrané v Austinu v Texasu s texaskou bluesovou legendou Ansonem Funderburghem v roce 2022\, získalo nadšené recenze po celém světě.Moje první nahrávka u Delmarku\, „Sometimes The Blues Got Me“ se dostala na celostátní číslo 1 v Roots Music Report jako „Best Blues Chicago Album Year 2018“. Moje druhá nahrávka u Delmarku "If It Ain't Broke Don't Fix It" byla vydána v roce 2019 a dostala se mezi TOP 50 BLUES ALBA ROKU u "Living Blues" Magazine V roce 2018 jsem byl nominován na Blues Blast Music Awards v kategorii „Vycházející hvězda roku“ V roce 2019 jsem byl headlinerem na Chicago Blues Festivalu.
LOCATION:Třebíč
END:VEVENT
END:VCALENDAR