BEGIN:VCALENDAR
VERSION:2.0
CALSCALE:GREGORIAN
PRODID:-//MyApp//Calendar 1.0//EN
BEGIN:VEVENT
METHOD:PUBLISH
UID:65905@regionalniportaly.cz
DTSTAMP:20260425T105801Z
DTSTART;VALUE=DATE:20261231
DTEND;VALUE=DATE:20270101
SUMMARY:Silvestr 2026
DESCRIPTION:SILVESTR 2026 v Hotelu Opera – Jaroměřice nad Rokytnou31. 12. 2026 | začátek v 19:00Přijďte s námi oslavit konec roku ve velkém stylu!Hotel Opera vás zve na nezapomenutelný silvestrovský večer plný elegance\, skvělé hudby a slavnostní atmosféry.Co vás čeká:• NEOMEZENÝ VEČERNÍ RAUT plný delikates• PŮLNOČNÍ PŘÍPITEK pro každého• ŽIVÁ HUDBA – skupina DIMENZE• Hudba pro tanec\, zábavu i pohodový večer s přáteli• Slavnostní výzdoba a jedinečná silvestrovská atmosféra• Možnost přijít ve společenském oblečení nebo originálním stylu
LOCATION:Jaroměřice nad Rokytnou
END:VEVENT
END:VCALENDAR